BEGIN:VCALENDAR
VERSION:2.0
PRODID:-//lifeelemental.org - ECPv6.13.2.1//NONSGML v1.0//EN
CALSCALE:GREGORIAN
METHOD:PUBLISH
X-WR-CALNAME:lifeelemental.org
X-ORIGINAL-URL:https://lifeelemental.org
X-WR-CALDESC:Events for lifeelemental.org
REFRESH-INTERVAL;VALUE=DURATION:PT1H
X-Robots-Tag:noindex
X-PUBLISHED-TTL:PT1H
BEGIN:VTIMEZONE
TZID:America/Chicago
BEGIN:DAYLIGHT
TZOFFSETFROM:-0600
TZOFFSETTO:-0500
TZNAME:CDT
DTSTART:20240310T080000
END:DAYLIGHT
BEGIN:STANDARD
TZOFFSETFROM:-0500
TZOFFSETTO:-0600
TZNAME:CST
DTSTART:20241103T070000
END:STANDARD
END:VTIMEZONE
BEGIN:VEVENT
DTSTART;TZID=America/Chicago:20241021T191500
DTEND;TZID=America/Chicago:20241021T211500
DTSTAMP:20260424T193652
CREATED:20240930T143502Z
LAST-MODIFIED:20241008T191304Z
UID:1661-1729538100-1729545300@lifeelemental.org
SUMMARY:Intentional Sound Series: Grief
DESCRIPTION:Intentional Sound Series\nTheme:  Grief\nMoving through:\n– Loss\n– Sadness\n– Emptiness\n– Attachment\nThe Practice:\n1) Acknowledgement: Know the sense of Loss\, Sadness\, Emptiness\, and Attachment\n2) Acceptance: Taking responsibility for our relationship with the present\n3) Self-realization: Realizing our Spiritual path\, that living in the Present means allowing the\nlessons to unfold \nWhat to expect: Participate in a meditative sound bath featuring gongs\, crystal bowls\, and other instruments. Mats and eye masks\, as well as stones & crystals to aid meditation are provided. Wear comfortable clothing and bring a water bottle.\n\nPractice includes: setting intention\, breath work\, visualization\, and vocalization \nFacilitator; Edward Schultz began playing music at age 5. That study and practice supports his intuitive process while working in the rudiments of Vedic Sound Therapy. Over the past 10 years\, working with Symphonic Gong\, Hoop Drum\, Chimes\, Tibetan and Crystal Bowls\, Ocean Drum\, Monolina and other instruments\, he has helped hundreds of people to release stress\, anxiety\, depression\, and trauma. \nPlease arrive 15 minutes early.\nRSVP (room for 16)\nSuggested offering: $25 – $75\n+/- 2 hours per session\nIntegration chat to follow
URL:https://lifeelemental.org/events/intentional-sound-series-grief/
LOCATION:Life Elemental Healing Cottage\, 47726 Aspen Rd\, Soldiers Grove\, WI\, 54655\, United States
CATEGORIES:Intentional Sound Series,Sound Session
ATTACH;FMTTYPE=image/jpeg:https://lifeelemental.org/wp-content/uploads/2024/04/cottage-crop-1.jpg
END:VEVENT
END:VCALENDAR