BEGIN:VCALENDAR
VERSION:2.0
PRODID:-//lifeelemental.org - ECPv6.13.2.1//NONSGML v1.0//EN
CALSCALE:GREGORIAN
METHOD:PUBLISH
X-WR-CALNAME:lifeelemental.org
X-ORIGINAL-URL:https://lifeelemental.org
X-WR-CALDESC:Events for lifeelemental.org
REFRESH-INTERVAL;VALUE=DURATION:PT1H
X-Robots-Tag:noindex
X-PUBLISHED-TTL:PT1H
BEGIN:VTIMEZONE
TZID:America/Chicago
BEGIN:DAYLIGHT
TZOFFSETFROM:-0600
TZOFFSETTO:-0500
TZNAME:CDT
DTSTART:20240310T080000
END:DAYLIGHT
BEGIN:STANDARD
TZOFFSETFROM:-0500
TZOFFSETTO:-0600
TZNAME:CST
DTSTART:20241103T070000
END:STANDARD
END:VTIMEZONE
BEGIN:VEVENT
DTSTART;TZID=America/Chicago:20240804T100000
DTEND;TZID=America/Chicago:20240804T120000
DTSTAMP:20260423T153200
CREATED:20240412T224129Z
LAST-MODIFIED:20240419T200813Z
UID:1476-1722765600-1722772800@lifeelemental.org
SUMMARY:Tuning In to Sound & Nature
DESCRIPTION:Children: Will be led on a hike\, explore the woods\, experiencing nature\, and will enjoy a snack together. Other children’s activities may include: yoga\, nature art\, and group games. Parents – Please pack your children for the weather that day and bring a water bottle for your child. \nParents: Participate in a meditative sound bath featuring gongs\, crystal bowls\, and other instruments. Mats and eye masks\, as well as stones & crystals to aid meditation are provided. Wear comfortable clothing and bring a water bottle. \n  \nChild Facilitator; Cassondra Trautsch has been working with children of all ages in a range of wilderness and outdoor education settings for over 10 years. Her experience is gained through roles at Coulee Connections in Wilderness Education\, directing summer Youth programs through Wisconsin Youth Company\, as well as experience in Montessori and Waldorf Education. Cassondra is trained in Wilderness First Aid\, CPR and Certified Children’s Yoga teacher through Breathe For Change. \nSound Facilitator; Edward Schultz began playing music at age 5. That study and practice supports his intuitive process while working in the rudiments of Vedic Sound Therapy. Over the past 10 years\, working with Symphonic Gong\, Hoop Drum\, Chimes\, Tibetan and Crystal Bowls\, Ocean Drum\, Monolina and other instruments\, he has helped hundreds of people to release stress\, anxiety\, depression\, and trauma. \nPlease arrive 5-10 minutes early.  \nRSVP  \nSliding scale fee: Children: $10 – $25; Adults: $15 – $50
URL:https://lifeelemental.org/events/tuning-in-to-sound-nature-4/
LOCATION:Life Elemental Healing Cottage\, 47726 Aspen Rd\, Soldiers Grove\, WI\, 54655\, United States
CATEGORIES:Sound & Nature,Sound Session
ATTACH;FMTTYPE=image/jpeg:https://lifeelemental.org/wp-content/uploads/2024/04/cottage-new2-scaled-e1712943094352.jpg
END:VEVENT
BEGIN:VEVENT
DTSTART;TZID=America/Chicago:20240707T100000
DTEND;TZID=America/Chicago:20240707T120000
DTSTAMP:20260423T153200
CREATED:20240412T223949Z
LAST-MODIFIED:20240419T200849Z
UID:1474-1720346400-1720353600@lifeelemental.org
SUMMARY:Tuning In to Sound & Nature
DESCRIPTION:Children: Will be led on a hike\, explore the woods\, experiencing nature\, and will enjoy a snack together. Other children’s activities may include: yoga\, nature art\, and group games. Parents – Please pack your children for the weather that day and bring a water bottle for your child. \nParents: Participate in a meditative sound bath featuring gongs\, crystal bowls\, and other instruments. Mats and eye masks\, as well as stones & crystals to aid meditation are provided. Wear comfortable clothing and bring a water bottle. \n  \nChild Facilitator; Cassondra Trautsch has been working with children of all ages in a range of wilderness and outdoor education settings for over 10 years. Her experience is gained through roles at Coulee Connections in Wilderness Education\, directing summer Youth programs through Wisconsin Youth Company\, as well as experience in Montessori and Waldorf Education. Cassondra is trained in Wilderness First Aid\, CPR and Certified Children’s Yoga teacher through Breathe For Change. \nSound Facilitator; Edward Schultz began playing music at age 5. That study and practice supports his intuitive process while working in the rudiments of Vedic Sound Therapy. Over the past 10 years\, working with Symphonic Gong\, Hoop Drum\, Chimes\, Tibetan and Crystal Bowls\, Ocean Drum\, Monolina and other instruments\, he has helped hundreds of people to release stress\, anxiety\, depression\, and trauma. \nPlease arrive 5-10 minutes early.  \nRSVP  \nSliding scale fee: Children: $10 – $25; Adults: $15 – $50
URL:https://lifeelemental.org/events/tuning-in-to-sound-nature-3/
LOCATION:Life Elemental Healing Cottage\, 47726 Aspen Rd\, Soldiers Grove\, WI\, 54655\, United States
CATEGORIES:Sound & Nature,Sound Session
ATTACH;FMTTYPE=image/jpeg:https://lifeelemental.org/wp-content/uploads/2024/04/cottage-new2-scaled-e1712943094352.jpg
END:VEVENT
BEGIN:VEVENT
DTSTART;TZID=America/Chicago:20240602T100000
DTEND;TZID=America/Chicago:20240602T120000
DTSTAMP:20260423T153200
CREATED:20240412T223756Z
LAST-MODIFIED:20240419T201027Z
UID:1472-1717322400-1717329600@lifeelemental.org
SUMMARY:Tuning In to Sound & Nature
DESCRIPTION:Children: Will be led on a hike\, explore the woods\, experiencing nature\, and will enjoy a snack together. Other children’s activities may include: yoga\, nature art\, and group games. Parents – Please pack your children for the weather that day and bring a water bottle for your child. \nParents: Participate in a meditative sound bath featuring gongs\, crystal bowls\, and other instruments. Mats and eye masks\, as well as stones & crystals to aid meditation are provided. Wear comfortable clothing and bring a water bottle. \n  \nChild Facilitator; Cassondra Trautsch has been working with children of all ages in a range of wilderness and outdoor education settings for over 10 years. Her experience is gained through roles at Coulee Connections in Wilderness Education\, directing summer Youth programs through Wisconsin Youth Company\, as well as experience in Montessori and Waldorf Education. Cassondra is trained in Wilderness First Aid\, CPR and Certified Children’s Yoga teacher through Breathe For Change. \nSound Facilitator; Edward Schultz began playing music at age 5. That study and practice supports his intuitive process while working in the rudiments of Vedic Sound Therapy. Over the past 10 years\, working with Symphonic Gong\, Hoop Drum\, Chimes\, Tibetan and Crystal Bowls\, Ocean Drum\, Monolina and other instruments\, he has helped hundreds of people to release stress\, anxiety\, depression\, and trauma. \nPlease arrive 5-10 minutes early.  \nRSVP  \nSliding scale fee: Children: $10 – $25; Adults: $15 – $50
URL:https://lifeelemental.org/events/tuning-in-to-sound-nature-2/
LOCATION:Life Elemental Healing Cottage\, 47726 Aspen Rd\, Soldiers Grove\, WI\, 54655\, United States
CATEGORIES:Sound & Nature,Sound Session
ATTACH;FMTTYPE=image/jpeg:https://lifeelemental.org/wp-content/uploads/2024/04/cottage-new2-scaled-e1712943094352.jpg
END:VEVENT
BEGIN:VEVENT
DTSTART;TZID=America/Chicago:20240505T100000
DTEND;TZID=America/Chicago:20240505T120000
DTSTAMP:20260423T153200
CREATED:20240412T223228Z
LAST-MODIFIED:20240419T201155Z
UID:1461-1714903200-1714910400@lifeelemental.org
SUMMARY:Tuning In to Sound & Nature
DESCRIPTION:Children: Will be led on a hike\, explore the woods\, experiencing nature\, and will enjoy a snack together. Other children’s activities may include: yoga\, nature art\, and group games. Parents – Please pack your children for the weather that day and bring a water bottle for your child. \nParents: Participate in a meditative sound bath featuring gongs\, crystal bowls\, and other instruments. Mats and eye masks\, as well as stones & crystals to aid meditation are provided. Wear comfortable clothing and bring a water bottle. \n  \nChild Facilitator; Cassondra Trautsch has been working with children of all ages in a range of wilderness and outdoor education settings for over 10 years. Her experience is gained through roles at Coulee Connections in Wilderness Education\, directing summer Youth programs through Wisconsin Youth Company\, as well as experience in Montessori and Waldorf Education. Cassondra is trained in Wilderness First Aid\, CPR and Certified Children’s Yoga teacher through Breathe For Change. \nSound Facilitator; Edward Schultz began playing music at age 5. That study and practice supports his intuitive process while working in the rudiments of Vedic Sound Therapy. Over the past 10 years\, working with Symphonic Gong\, Hoop Drum\, Chimes\, Tibetan and Crystal Bowls\, Ocean Drum\, Monolina and other instruments\, he has helped hundreds of people to release stress\, anxiety\, depression\, and trauma. \nPlease arrive 5-10 minutes early.  \nRSVP  \nSliding scale fee: Children: $10 – $25; Adults: $15 – $50
URL:https://lifeelemental.org/events/tuning-in-to-sound-nature/
LOCATION:Life Elemental Healing Cottage\, 47726 Aspen Rd\, Soldiers Grove\, WI\, 54655\, United States
CATEGORIES:Sound & Nature,Sound Session
ATTACH;FMTTYPE=image/jpeg:https://lifeelemental.org/wp-content/uploads/2024/04/cottage-new2-scaled-e1712943094352.jpg
END:VEVENT
END:VCALENDAR