BEGIN:VCALENDAR
VERSION:2.0
PRODID:-//lifeelemental.org - ECPv6.13.2.1//NONSGML v1.0//EN
CALSCALE:GREGORIAN
METHOD:PUBLISH
X-WR-CALNAME:lifeelemental.org
X-ORIGINAL-URL:https://lifeelemental.org
X-WR-CALDESC:Events for lifeelemental.org
REFRESH-INTERVAL;VALUE=DURATION:PT1H
X-Robots-Tag:noindex
X-PUBLISHED-TTL:PT1H
BEGIN:VTIMEZONE
TZID:America/Chicago
BEGIN:DAYLIGHT
TZOFFSETFROM:-0600
TZOFFSETTO:-0500
TZNAME:CDT
DTSTART:20260308T080000
END:DAYLIGHT
BEGIN:STANDARD
TZOFFSETFROM:-0500
TZOFFSETTO:-0600
TZNAME:CST
DTSTART:20261101T070000
END:STANDARD
END:VTIMEZONE
BEGIN:VEVENT
DTSTART;TZID=America/Chicago:20260528T190000
DTEND;TZID=America/Chicago:20260528T210000
DTSTAMP:20260423T173255
CREATED:20260130T190153Z
LAST-MODIFIED:20260130T190153Z
UID:2433-1779994800-1780002000@lifeelemental.org
SUMMARY:Community Sound & Stone Session
DESCRIPTION:Participate in a meditative sound bath featuring gongs\, crystal bowls\, and other instruments. Mats and eye masks\, as well as stones & crystals to aid meditation are provided. Wear comfortable clothing and bring a water bottle.\nPractice includes: setting intention\, breath work\, visualization\, and vocalization \nFacilitator; Edward Schultz began playing music at age 5. That study and practice supports his intuitive process while working in the rudiments of Vedic Sound Therapy. Over the past 10 years\, working with Symphonic Gong\, Hoop Drum\, Chimes\, Tibetan and Crystal Bowls\, Ocean Drum\, Monolina and other instruments\, he has helped hundreds of people to release stress\, anxiety\, depression\, and trauma. \nRSVP (room for 16)\nMore info on Sound Baths \nFree Will Offering – (Customary is $5 to $80)\n+/- 2 hours per session\nIntegration chat to follow
URL:https://lifeelemental.org/events/community-sound-stone-session-86/
LOCATION:Life Elemental Healing Cottage\, 47726 Aspen Rd\, Soldiers Grove\, WI\, 54655\, United States
CATEGORIES:Community Sound Session,Sound Session
ATTACH;FMTTYPE=image/jpeg:https://lifeelemental.org/wp-content/uploads/2024/04/cottage-crop2.jpg
END:VEVENT
BEGIN:VEVENT
DTSTART;VALUE=DATE:20260710
DTEND;VALUE=DATE:20260713
DTSTAMP:20260423T173255
CREATED:20260130T203656Z
LAST-MODIFIED:20260130T205254Z
UID:2435-1783641600-1783900799@lifeelemental.org
SUMMARY:Group Holistic Wellness Retreat
DESCRIPTION:Release and Renew while nestled in the serene hills of the Beautiful Driftless Area of Wisconsin. Over the course of three days\, you will experience the restorative benefits of sound through 2 immersive sound baths per day\, along with quiet walks\, journaling\, nature immersion\, ceremonial fires to support your intentions\, and an opening and closing sweat (sweating on the Earth with fire warmed stones). Holistic guidance is available to support your journey of personal growth and healing. \nLodging: Two cabins that can host 1-2 people each\, along with space for camping. \nFor more information about our space\, and what we offer\, check out our Group Retreats page.\nFeel free to reach out with any questions.\nBook on our Calendly. \nSliding Fee: $350 – $1\,000 per person
URL:https://lifeelemental.org/events/group-holistic-wellness-retreat/
LOCATION:Life Elemental\, 47726 Aspen Rd\, Soldiers Grove\, WI\, 54655\, United States
CATEGORIES:Retreat
ATTACH;FMTTYPE=image/jpeg:https://lifeelemental.org/wp-content/uploads/2024/02/circle2-scaled.jpg
END:VEVENT
BEGIN:VEVENT
DTSTART;VALUE=DATE:20260807
DTEND;VALUE=DATE:20260810
DTSTAMP:20260423T173255
CREATED:20260130T204058Z
LAST-MODIFIED:20260130T205211Z
UID:2437-1786060800-1786319999@lifeelemental.org
SUMMARY:Group Holistic Wellness Retreat
DESCRIPTION:Release and Renew while nestled in the serene hills of the Beautiful Driftless Area of Wisconsin. Over the course of three days\, you will experience the restorative benefits of sound through 2 immersive sound baths per day\, along with quiet walks\, journaling\, nature immersion\, ceremonial fires to support your intentions\, and an opening and closing sweat (sweating on the Earth with fire warmed stones). Holistic guidance is available to support your journey of personal growth and healing. \nLodging: Two cabins that can host 1-2 people each\, along with space for camping. \nFor more information about our space\, and what we offer\, check out our Group Retreats page.\nFeel free to reach out with any questions.\nBook on our Calendly. \nSliding Fee: $350 – $1\,000 per person
URL:https://lifeelemental.org/events/group-holistic-wellness-retreat-4/
LOCATION:Life Elemental\, 47726 Aspen Rd\, Soldiers Grove\, WI\, 54655\, United States
CATEGORIES:Retreat
ATTACH;FMTTYPE=image/jpeg:https://lifeelemental.org/wp-content/uploads/2024/02/circle2-scaled.jpg
END:VEVENT
BEGIN:VEVENT
DTSTART;VALUE=DATE:20260911
DTEND;VALUE=DATE:20260914
DTSTAMP:20260423T173255
CREATED:20260130T204423Z
LAST-MODIFIED:20260130T205053Z
UID:2440-1789084800-1789343999@lifeelemental.org
SUMMARY:Group Holistic Wellness Retreat
DESCRIPTION:Release and Renew while nestled in the serene hills of the Beautiful Driftless Area of Wisconsin. Over the course of three days\, you will experience the restorative benefits of sound through 2 immersive sound baths per day\, along with quiet walks\, journaling\, nature immersion\, ceremonial fires to support your intentions\, and an opening and closing sweat (sweating on the Earth with fire warmed stones). Holistic guidance is available to support your journey of personal growth and healing. \nLodging: Two cabins that can host 1-2 people each\, along with space for camping. \nFor more information about our space\, and what we offer\, check out our Group Retreats page.\nFeel free to reach out with any questions.\nBook on our Calendly. \nSliding Fee: $350 – $1\,000 per person
URL:https://lifeelemental.org/events/group-holistic-wellness-retreat-5/
LOCATION:Life Elemental\, 47726 Aspen Rd\, Soldiers Grove\, WI\, 54655\, United States
CATEGORIES:Retreat
ATTACH;FMTTYPE=image/jpeg:https://lifeelemental.org/wp-content/uploads/2024/02/circle2-scaled.jpg
END:VEVENT
END:VCALENDAR