BEGIN:VCALENDAR
VERSION:2.0
PRODID:-//lifeelemental.org - ECPv6.13.2.1//NONSGML v1.0//EN
CALSCALE:GREGORIAN
METHOD:PUBLISH
X-ORIGINAL-URL:https://lifeelemental.org
X-WR-CALDESC:Events for lifeelemental.org
REFRESH-INTERVAL;VALUE=DURATION:PT1H
X-Robots-Tag:noindex
X-PUBLISHED-TTL:PT1H
BEGIN:VTIMEZONE
TZID:America/Chicago
BEGIN:DAYLIGHT
TZOFFSETFROM:-0600
TZOFFSETTO:-0500
TZNAME:CDT
DTSTART:20240310T080000
END:DAYLIGHT
BEGIN:STANDARD
TZOFFSETFROM:-0500
TZOFFSETTO:-0600
TZNAME:CST
DTSTART:20241103T070000
END:STANDARD
END:VTIMEZONE
BEGIN:VEVENT
DTSTART;TZID=America/Chicago:20241202T190000
DTEND;TZID=America/Chicago:20241202T210000
DTSTAMP:20260424T123932
CREATED:20240930T145025Z
LAST-MODIFIED:20240930T145025Z
UID:1671-1733166000-1733173200@lifeelemental.org
SUMMARY:Community Sound & Stone Session
DESCRIPTION:Participate in a meditative sound bath featuring gongs\, crystal bowls\, and other instruments. Mats and eye masks\, as well as stones & crystals to aid meditation are provided. Wear comfortable clothing and bring a water bottle.\nPractice includes: setting intention\, breath work\, visualization\, and vocalization \nFacilitator; Edward Schultz began playing music at age 5. That study and practice supports his intuitive process while working in the rudiments of Vedic Sound Therapy. Over the past 10 years\, working with Symphonic Gong\, Hoop Drum\, Chimes\, Tibetan and Crystal Bowls\, Ocean Drum\, Monolina and other instruments\, he has helped hundreds of people to release stress\, anxiety\, depression\, and trauma. \nRSVP (room for 16)\nFree Will Offering – (Customary is $15 to $50)\n+/- 2 hours per session\nIntegration chat to follow
URL:https://lifeelemental.org/events/community-sound-stone-session-11/
LOCATION:Life Elemental Healing Cottage\, 47726 Aspen Rd\, Soldiers Grove\, WI\, 54655\, United States
CATEGORIES:Community Sound Session,Sound Session
ATTACH;FMTTYPE=image/jpeg:https://lifeelemental.org/wp-content/uploads/2024/04/cottage-crop-1.jpg
END:VEVENT
BEGIN:VEVENT
DTSTART;TZID=America/Chicago:20241209T190000
DTEND;TZID=America/Chicago:20241209T210000
DTSTAMP:20260424T123932
CREATED:20240930T145147Z
LAST-MODIFIED:20240930T145147Z
UID:1673-1733770800-1733778000@lifeelemental.org
SUMMARY:Women's Sound & Stone Session
DESCRIPTION:Join us for our monthly Women’s Sound & Stone Session! \nParticipate in a meditative sound bath featuring gongs\, crystal bowls\, and other instruments. Mats and eye masks\, as well as stones & crystals to aid meditation are provided. Wear comfortable clothing and bring a water bottle. \nFacilitated by Karen Reckinger\, who was first introduced to sound healing in the early 2000’s.  Karen was struck by the tangible way she could feel her vibration after attending sound sessions\, and how the feeling of being ‘tuned-up’ mentally\, emotionally\, and spiritually stayed with her.  Since then\, her life’s journey has brought her to a place of providing sound for others; hosting a monthly Women’s Sound Circle\, playing for groups during 3 Day Sound Immersion retreats\, and offering sound and stone sessions for groups and individuals by appointment.  Guided by intuition\, ear\, and an innate empathic nature\, she provides layers of instrumentation intended to invoke a deep meditative journey; working to help others relax\, release\, and gain insights. Use of stones and crystals\, along with sound therapy\, enhances the properties of both of these modalities.  Karen has been working with sound healing instruments since 2015\, and is certified through the Sound Healing Academy. \nRSVP (room for 16) \nFree Will Offering – ($15 to $50 is customary)
URL:https://lifeelemental.org/events/womens-sound-stone-session-9/
LOCATION:Life Elemental Healing Cottage\, 47726 Aspen Rd\, Soldiers Grove\, WI\, 54655\, United States
CATEGORIES:Sound Session,Women's Sound Session
ATTACH;FMTTYPE=image/jpeg:https://lifeelemental.org/wp-content/uploads/2024/04/steps4.jpg
END:VEVENT
BEGIN:VEVENT
DTSTART;TZID=America/Chicago:20241216T190000
DTEND;TZID=America/Chicago:20241216T210000
DTSTAMP:20260424T123932
CREATED:20240930T145317Z
LAST-MODIFIED:20240930T145317Z
UID:1675-1734375600-1734382800@lifeelemental.org
SUMMARY:Community Sound & Stone Session
DESCRIPTION:Participate in a meditative sound bath featuring gongs\, crystal bowls\, and other instruments. Mats and eye masks\, as well as stones & crystals to aid meditation are provided. Wear comfortable clothing and bring a water bottle.\nPractice includes: setting intention\, breath work\, visualization\, and vocalization \nFacilitator; Edward Schultz began playing music at age 5. That study and practice supports his intuitive process while working in the rudiments of Vedic Sound Therapy. Over the past 10 years\, working with Symphonic Gong\, Hoop Drum\, Chimes\, Tibetan and Crystal Bowls\, Ocean Drum\, Monolina and other instruments\, he has helped hundreds of people to release stress\, anxiety\, depression\, and trauma. \nRSVP (room for 16)\nFree Will Offering – (Customary is $15 to $50)\n+/- 2 hours per session\nIntegration chat to follow
URL:https://lifeelemental.org/events/community-sound-stone-session-12/
LOCATION:Life Elemental Healing Cottage\, 47726 Aspen Rd\, Soldiers Grove\, WI\, 54655\, United States
CATEGORIES:Community Sound Session,Sound Session
ATTACH;FMTTYPE=image/jpeg:https://lifeelemental.org/wp-content/uploads/2024/04/cottage-crop-1.jpg
END:VEVENT
BEGIN:VEVENT
DTSTART;TZID=America/Chicago:20241223T190000
DTEND;TZID=America/Chicago:20241223T210000
DTSTAMP:20260424T123932
CREATED:20241002T184614Z
LAST-MODIFIED:20241002T184614Z
UID:1682-1734980400-1734987600@lifeelemental.org
SUMMARY:Sound Session
DESCRIPTION:The usual Monday evening Sound Session will be canceled for the Holiday. \nHappy Holidays!
URL:https://lifeelemental.org/events/sound-session/
LOCATION:WI
END:VEVENT
BEGIN:VEVENT
DTSTART;TZID=America/Chicago:20241230T190000
DTEND;TZID=America/Chicago:20241230T210000
DTSTAMP:20260424T123932
CREATED:20240930T145455Z
LAST-MODIFIED:20240930T145455Z
UID:1677-1735585200-1735592400@lifeelemental.org
SUMMARY:Community Sound & Stone Session
DESCRIPTION:Participate in a meditative sound bath featuring gongs\, crystal bowls\, and other instruments. Mats and eye masks\, as well as stones & crystals to aid meditation are provided. Wear comfortable clothing and bring a water bottle.\nPractice includes: setting intention\, breath work\, visualization\, and vocalization \nFacilitator; Edward Schultz began playing music at age 5. That study and practice supports his intuitive process while working in the rudiments of Vedic Sound Therapy. Over the past 10 years\, working with Symphonic Gong\, Hoop Drum\, Chimes\, Tibetan and Crystal Bowls\, Ocean Drum\, Monolina and other instruments\, he has helped hundreds of people to release stress\, anxiety\, depression\, and trauma. \nRSVP (room for 16)\nFree Will Offering – (Customary is $15 to $50)\n+/- 2 hours per session\nIntegration chat to follow
URL:https://lifeelemental.org/events/community-sound-stone-session-13/
LOCATION:Life Elemental Healing Cottage\, 47726 Aspen Rd\, Soldiers Grove\, WI\, 54655\, United States
CATEGORIES:Community Sound Session,Sound Session
ATTACH;FMTTYPE=image/jpeg:https://lifeelemental.org/wp-content/uploads/2024/04/cottage-crop-1.jpg
END:VEVENT
END:VCALENDAR