BEGIN:VCALENDAR
VERSION:2.0
PRODID:-//lifeelemental.org - ECPv6.13.2.1//NONSGML v1.0//EN
CALSCALE:GREGORIAN
METHOD:PUBLISH
X-ORIGINAL-URL:https://lifeelemental.org
X-WR-CALDESC:Events for lifeelemental.org
REFRESH-INTERVAL;VALUE=DURATION:PT1H
X-Robots-Tag:noindex
X-PUBLISHED-TTL:PT1H
BEGIN:VTIMEZONE
TZID:America/Chicago
BEGIN:DAYLIGHT
TZOFFSETFROM:-0600
TZOFFSETTO:-0500
TZNAME:CDT
DTSTART:20250309T080000
END:DAYLIGHT
BEGIN:STANDARD
TZOFFSETFROM:-0500
TZOFFSETTO:-0600
TZNAME:CST
DTSTART:20251102T070000
END:STANDARD
END:VTIMEZONE
BEGIN:VEVENT
DTSTART;TZID=America/Chicago:20250202T104500
DTEND;TZID=America/Chicago:20250202T124500
DTSTAMP:20260424T084722
CREATED:20250106T194607Z
LAST-MODIFIED:20250202T184151Z
UID:1776-1738493100-1738500300@lifeelemental.org
SUMMARY:Community Sound & Stone Session
DESCRIPTION:Participate in a meditative sound bath featuring gongs\, crystal bowls\, and other instruments. Mats and eye masks\, as well as stones & crystals to aid meditation are provided. Wear comfortable clothing and bring a water bottle.\nPractice includes: setting intention\, breath work\, visualization\, and vocalization \nFacilitator; Edward Schultz began playing music at age 5. That study and practice supports his intuitive process while working in the rudiments of Vedic Sound Therapy. Over the past 10 years\, working with Symphonic Gong\, Hoop Drum\, Chimes\, Tibetan and Crystal Bowls\, Ocean Drum\, Monolina and other instruments\, he has helped hundreds of people to release stress\, anxiety\, depression\, and trauma. \nRSVP (room for 16)\nMore info on Sound Baths \nFree Will Offering – (Customary is $5 to $80)\n+/- 2 hours per session\nIntegration chat to follow
URL:https://lifeelemental.org/events/community-sound-stone-session-18/
LOCATION:Life Elemental Healing Cottage\, 47726 Aspen Rd\, Soldiers Grove\, WI\, 54655\, United States
CATEGORIES:Community Sound Session,Sound Session
ATTACH;FMTTYPE=image/jpeg:https://lifeelemental.org/wp-content/uploads/2024/04/cottage-crop-1.jpg
END:VEVENT
BEGIN:VEVENT
DTSTART;TZID=America/Chicago:20250203T190000
DTEND;TZID=America/Chicago:20250203T210000
DTSTAMP:20260424T084722
CREATED:20250106T202544Z
LAST-MODIFIED:20250202T184229Z
UID:1778-1738609200-1738616400@lifeelemental.org
SUMMARY:Women's Sound & Stone Session
DESCRIPTION:Join us for our monthly Women’s Sound & Stone Session! \nParticipate in a meditative sound bath featuring gongs\, crystal bowls\, and other instruments. Mats and eye masks\, as well as stones & crystals to aid meditation are provided. Wear comfortable clothing and bring a water bottle. \nFacilitated by Karen Reckinger\, who was first introduced to sound healing in the early 2000’s.  Karen was struck by the tangible way she could feel her vibration after attending sound sessions\, and how the feeling of being ‘tuned-up’ mentally\, emotionally\, and spiritually stayed with her.  Since then\, her life’s journey has brought her to a place of providing sound for others; hosting a monthly Women’s Sound Circle\, playing for groups during 3 Day Sound Immersion retreats\, and offering sound and stone sessions for groups and individuals by appointment.  Guided by intuition\, ear\, and an innate empathic nature\, she provides layers of instrumentation intended to invoke a deep meditative journey; working to help others relax\, release\, and gain insights. Use of stones and crystals\, along with sound therapy\, enhances the properties of both of these modalities.  Karen has been working with sound healing instruments since 2015\, and is certified through the Sound Healing Academy. \nRSVP (room for 16)\nMore info on Sound Baths \nFree Will Offering – ($5 to $80 is customary)
URL:https://lifeelemental.org/events/womens-sound-stone-session-10/
LOCATION:Life Elemental Healing Cottage\, 47726 Aspen Rd\, Soldiers Grove\, WI\, 54655\, United States
CATEGORIES:Sound Session,Women's Sound Session
ATTACH;FMTTYPE=image/jpeg:https://lifeelemental.org/wp-content/uploads/2024/04/steps4.jpg
END:VEVENT
BEGIN:VEVENT
DTSTART;TZID=America/Chicago:20250206T190000
DTEND;TZID=America/Chicago:20250206T210000
DTSTAMP:20260424T084722
CREATED:20250106T202725Z
LAST-MODIFIED:20250202T184128Z
UID:1780-1738868400-1738875600@lifeelemental.org
SUMMARY:Community Sound & Stone Session
DESCRIPTION:Participate in a meditative sound bath featuring gongs\, crystal bowls\, and other instruments. Mats and eye masks\, as well as stones & crystals to aid meditation are provided. Wear comfortable clothing and bring a water bottle.\nPractice includes: setting intention\, breath work\, visualization\, and vocalization \nFacilitator; Edward Schultz began playing music at age 5. That study and practice supports his intuitive process while working in the rudiments of Vedic Sound Therapy. Over the past 10 years\, working with Symphonic Gong\, Hoop Drum\, Chimes\, Tibetan and Crystal Bowls\, Ocean Drum\, Monolina and other instruments\, he has helped hundreds of people to release stress\, anxiety\, depression\, and trauma. \nRSVP (room for 16)\nMore info on Sound Baths \nFree Will Offering – (Customary is $5 to $80)\n+/- 2 hours per session\nIntegration chat to follow
URL:https://lifeelemental.org/events/community-sound-stone-session-19/
LOCATION:Life Elemental Healing Cottage\, 47726 Aspen Rd\, Soldiers Grove\, WI\, 54655\, United States
CATEGORIES:Community Sound Session,Sound Session
ATTACH;FMTTYPE=image/jpeg:https://lifeelemental.org/wp-content/uploads/2024/04/cottage-crop-1.jpg
END:VEVENT
BEGIN:VEVENT
DTSTART;TZID=America/Chicago:20250210T190000
DTEND;TZID=America/Chicago:20250210T210000
DTSTAMP:20260424T084722
CREATED:20250106T202823Z
LAST-MODIFIED:20250202T184114Z
UID:1782-1739214000-1739221200@lifeelemental.org
SUMMARY:Community Sound & Stone Session
DESCRIPTION:Participate in a meditative sound bath featuring gongs\, crystal bowls\, and other instruments. Mats and eye masks\, as well as stones & crystals to aid meditation are provided. Wear comfortable clothing and bring a water bottle.\nPractice includes: setting intention\, breath work\, visualization\, and vocalization \nFacilitator; Edward Schultz began playing music at age 5. That study and practice supports his intuitive process while working in the rudiments of Vedic Sound Therapy. Over the past 10 years\, working with Symphonic Gong\, Hoop Drum\, Chimes\, Tibetan and Crystal Bowls\, Ocean Drum\, Monolina and other instruments\, he has helped hundreds of people to release stress\, anxiety\, depression\, and trauma. \nRSVP (room for 16)\nMore info on Sound Baths \nFree Will Offering – (Customary is $5 to $80)\n+/- 2 hours per session\nIntegration chat to follow
URL:https://lifeelemental.org/events/community-sound-stone-session-20/
LOCATION:Life Elemental Healing Cottage\, 47726 Aspen Rd\, Soldiers Grove\, WI\, 54655\, United States
CATEGORIES:Community Sound Session,Sound Session
ATTACH;FMTTYPE=image/jpeg:https://lifeelemental.org/wp-content/uploads/2024/04/cottage-crop-1.jpg
END:VEVENT
BEGIN:VEVENT
DTSTART;TZID=America/Chicago:20250212T190000
DTEND;TZID=America/Chicago:20250212T210000
DTSTAMP:20260424T084722
CREATED:20250106T202932Z
LAST-MODIFIED:20250202T184051Z
UID:1784-1739386800-1739394000@lifeelemental.org
SUMMARY:Community Sound & Stone Session
DESCRIPTION:Participate in a meditative sound bath featuring gongs\, crystal bowls\, and other instruments. Mats and eye masks\, as well as stones & crystals to aid meditation are provided. Wear comfortable clothing and bring a water bottle.\nPractice includes: setting intention\, breath work\, visualization\, and vocalization \nFacilitator; Edward Schultz began playing music at age 5. That study and practice supports his intuitive process while working in the rudiments of Vedic Sound Therapy. Over the past 10 years\, working with Symphonic Gong\, Hoop Drum\, Chimes\, Tibetan and Crystal Bowls\, Ocean Drum\, Monolina and other instruments\, he has helped hundreds of people to release stress\, anxiety\, depression\, and trauma. \nRSVP (room for 16)\nMore info on Sound Baths \nFree Will Offering – (Customary is $5 to $80)\n+/- 2 hours per session\nIntegration chat to follow
URL:https://lifeelemental.org/events/community-sound-stone-session-21/
LOCATION:Life Elemental Healing Cottage\, 47726 Aspen Rd\, Soldiers Grove\, WI\, 54655\, United States
CATEGORIES:Community Sound Session,Sound Session
ATTACH;FMTTYPE=image/jpeg:https://lifeelemental.org/wp-content/uploads/2024/04/cottage-crop-1.jpg
END:VEVENT
BEGIN:VEVENT
DTSTART;TZID=America/Chicago:20250224T190000
DTEND;TZID=America/Chicago:20250224T210000
DTSTAMP:20260424T084722
CREATED:20250106T203021Z
LAST-MODIFIED:20250202T183945Z
UID:1786-1740423600-1740430800@lifeelemental.org
SUMMARY:Community Sound & Stone Session
DESCRIPTION:Participate in a meditative sound bath featuring gongs\, crystal bowls\, and other instruments. Mats and eye masks\, as well as stones & crystals to aid meditation are provided. Wear comfortable clothing and bring a water bottle.\nPractice includes: setting intention\, breath work\, visualization\, and vocalization \nFacilitator; Edward Schultz began playing music at age 5. That study and practice supports his intuitive process while working in the rudiments of Vedic Sound Therapy. Over the past 10 years\, working with Symphonic Gong\, Hoop Drum\, Chimes\, Tibetan and Crystal Bowls\, Ocean Drum\, Monolina and other instruments\, he has helped hundreds of people to release stress\, anxiety\, depression\, and trauma. \nRSVP (room for 16)\nMore info on Sound Baths \nFree Will Offering – (Customary is $5 to $80)\n+/- 2 hours per session\nIntegration chat to follow
URL:https://lifeelemental.org/events/community-sound-stone-session-22/
LOCATION:Life Elemental Healing Cottage\, 47726 Aspen Rd\, Soldiers Grove\, WI\, 54655\, United States
CATEGORIES:Community Sound Session,Sound Session
ATTACH;FMTTYPE=image/jpeg:https://lifeelemental.org/wp-content/uploads/2024/04/cottage-crop-1.jpg
END:VEVENT
END:VCALENDAR